BEGIN:VCALENDAR
VERSION:2.0
PRODID:-//Folkebootflotte Essen - ECPv6.0.9//NONSGML v1.0//EN
CALSCALE:GREGORIAN
METHOD:PUBLISH
X-WR-CALNAME:Folkebootflotte Essen
X-ORIGINAL-URL:http://folkeboot-essen.de
X-WR-CALDESC:Veranstaltungen für Folkebootflotte Essen
REFRESH-INTERVAL;VALUE=DURATION:PT1H
X-Robots-Tag:noindex
X-PUBLISHED-TTL:PT1H
BEGIN:VTIMEZONE
TZID:Europe/Berlin
BEGIN:DAYLIGHT
TZOFFSETFROM:+0100
TZOFFSETTO:+0200
TZNAME:CEST
DTSTART:20240331T010000
END:DAYLIGHT
BEGIN:STANDARD
TZOFFSETFROM:+0200
TZOFFSETTO:+0100
TZNAME:CET
DTSTART:20241027T010000
END:STANDARD
END:VTIMEZONE
BEGIN:VEVENT
DTSTART;VALUE=DATE:20240331
DTEND;VALUE=DATE:20240402
DTSTAMP:20260421T145258
CREATED:20240131T093245Z
LAST-MODIFIED:20240131T093245Z
UID:14536-1711843200-1712015999@folkeboot-essen.de
SUMMARY:Ostern
DESCRIPTION:
URL:http://folkeboot-essen.de/veranstaltung/ostern-7/
CATEGORIES:Sonstige
ATTACH;FMTTYPE=image/jpeg:http://folkeboot-essen.de/wp-content/uploads/2021/03/Ostern2.jpg
END:VEVENT
END:VCALENDAR