BEGIN:VCALENDAR
VERSION:2.0
PRODID:-//Folkebootflotte Essen - ECPv6.0.9//NONSGML v1.0//EN
CALSCALE:GREGORIAN
METHOD:PUBLISH
X-ORIGINAL-URL:http://folkeboot-essen.de
X-WR-CALDESC:Veranstaltungen für Folkebootflotte Essen
REFRESH-INTERVAL;VALUE=DURATION:PT1H
X-Robots-Tag:noindex
X-PUBLISHED-TTL:PT1H
BEGIN:VTIMEZONE
TZID:Europe/Berlin
BEGIN:DAYLIGHT
TZOFFSETFROM:+0100
TZOFFSETTO:+0200
TZNAME:CEST
DTSTART:20240331T010000
END:DAYLIGHT
BEGIN:STANDARD
TZOFFSETFROM:+0200
TZOFFSETTO:+0100
TZNAME:CET
DTSTART:20241027T010000
END:STANDARD
END:VTIMEZONE
BEGIN:VEVENT
DTSTART;TZID=Europe/Berlin:20240405T183000
DTEND;TZID=Europe/Berlin:20240405T203000
DTSTAMP:20260421T155131
CREATED:20240304T160037Z
LAST-MODIFIED:20240304T160440Z
UID:14683-1712341800-1712349000@folkeboot-essen.de
SUMMARY:Folke Stammtisch
DESCRIPTION:
URL:http://folkeboot-essen.de/veranstaltung/folke-stammtisch-17/
LOCATION:YCRE
CATEGORIES:Sozial
ATTACH;FMTTYPE=image/jpeg:http://folkeboot-essen.de/wp-content/uploads/2022/05/FlotenLogo100.jpg
END:VEVENT
END:VCALENDAR