BEGIN:VCALENDAR
VERSION:2.0
PRODID:-//Folkebootflotte Essen - ECPv6.0.9//NONSGML v1.0//EN
CALSCALE:GREGORIAN
METHOD:PUBLISH
X-WR-CALNAME:Folkebootflotte Essen
X-ORIGINAL-URL:http://folkeboot-essen.de
X-WR-CALDESC:Veranstaltungen für Folkebootflotte Essen
REFRESH-INTERVAL;VALUE=DURATION:PT1H
X-Robots-Tag:noindex
X-PUBLISHED-TTL:PT1H
BEGIN:VTIMEZONE
TZID:Europe/Berlin
BEGIN:DAYLIGHT
TZOFFSETFROM:+0100
TZOFFSETTO:+0200
TZNAME:CEST
DTSTART:20240331T010000
END:DAYLIGHT
BEGIN:STANDARD
TZOFFSETFROM:+0200
TZOFFSETTO:+0100
TZNAME:CET
DTSTART:20241027T010000
END:STANDARD
END:VTIMEZONE
BEGIN:VEVENT
DTSTART;TZID=Europe/Berlin:20240828T180000
DTEND;TZID=Europe/Berlin:20240828T190000
DTSTAMP:20260421T121545
CREATED:20240308T122053Z
LAST-MODIFIED:20240308T122059Z
UID:14862-1724868000-1724871600@folkeboot-essen.de
SUMMARY:SKS Mittwochsregatta
DESCRIPTION:
URL:http://folkeboot-essen.de/veranstaltung/sks-mittwochsregatta-34/
CATEGORIES:Regatta
END:VEVENT
END:VCALENDAR