BEGIN:VCALENDAR
VERSION:2.0
PRODID:-//Folkebootflotte Essen - ECPv6.0.9//NONSGML v1.0//EN
CALSCALE:GREGORIAN
METHOD:PUBLISH
X-ORIGINAL-URL:http://folkeboot-essen.de
X-WR-CALDESC:Veranstaltungen für Folkebootflotte Essen
REFRESH-INTERVAL;VALUE=DURATION:PT1H
X-Robots-Tag:noindex
X-PUBLISHED-TTL:PT1H
BEGIN:VTIMEZONE
TZID:Europe/Berlin
BEGIN:DAYLIGHT
TZOFFSETFROM:+0100
TZOFFSETTO:+0200
TZNAME:CEST
DTSTART:20250330T010000
END:DAYLIGHT
BEGIN:STANDARD
TZOFFSETFROM:+0200
TZOFFSETTO:+0100
TZNAME:CET
DTSTART:20251026T010000
END:STANDARD
END:VTIMEZONE
BEGIN:VEVENT
DTSTART;VALUE=DATE:20250826
DTEND;VALUE=DATE:20250831
DTSTAMP:20260421T115218
CREATED:20250114T112338Z
LAST-MODIFIED:20250114T112348Z
UID:15599-1756166400-1756598399@folkeboot-essen.de
SUMMARY:Internationale Deutsche Meisterschaft '25
DESCRIPTION:
URL:http://folkeboot-essen.de/veranstaltung/internationale-deutsche-meisterschaft-25/
CATEGORIES:Aktuell,Regatta
END:VEVENT
END:VCALENDAR