BEGIN:VCALENDAR
VERSION:2.0
PRODID:-//Folkebootflotte Essen - ECPv6.0.9//NONSGML v1.0//EN
CALSCALE:GREGORIAN
METHOD:PUBLISH
X-ORIGINAL-URL:http://folkeboot-essen.de
X-WR-CALDESC:Veranstaltungen für Folkebootflotte Essen
REFRESH-INTERVAL;VALUE=DURATION:PT1H
X-Robots-Tag:noindex
X-PUBLISHED-TTL:PT1H
BEGIN:VTIMEZONE
TZID:Europe/Berlin
BEGIN:DAYLIGHT
TZOFFSETFROM:+0100
TZOFFSETTO:+0200
TZNAME:CEST
DTSTART:20250330T010000
END:DAYLIGHT
BEGIN:STANDARD
TZOFFSETFROM:+0200
TZOFFSETTO:+0100
TZNAME:CET
DTSTART:20251026T010000
END:STANDARD
END:VTIMEZONE
BEGIN:VEVENT
DTSTART;VALUE=DATE:20251025
DTEND;VALUE=DATE:20251027
DTSTAMP:20260421T103750
CREATED:20250114T113023Z
LAST-MODIFIED:20250114T113027Z
UID:15612-1761350400-1761523199@folkeboot-essen.de
SUMMARY:Folkeboot Finale
DESCRIPTION:
URL:http://folkeboot-essen.de/veranstaltung/folkeboot-finale-9/
CATEGORIES:Aktuell,Regatta
ATTACH;FMTTYPE=image/jpeg:http://folkeboot-essen.de/wp-content/uploads/2023/04/YCRE-90Jahre.jpg
END:VEVENT
END:VCALENDAR